BEGIN:VCALENDAR
VERSION:2.0
PRODID:-//North West Aerospace Alliance - ECPv6.15.17.1//NONSGML v1.0//EN
CALSCALE:GREGORIAN
METHOD:PUBLISH
X-WR-CALNAME:North West Aerospace Alliance
X-ORIGINAL-URL:https://www.aerospace.co.uk
X-WR-CALDESC:Events for North West Aerospace Alliance
REFRESH-INTERVAL;VALUE=DURATION:PT1H
X-Robots-Tag:noindex
X-PUBLISHED-TTL:PT1H
BEGIN:VTIMEZONE
TZID:Europe/London
BEGIN:DAYLIGHT
TZOFFSETFROM:+0000
TZOFFSETTO:+0100
TZNAME:BST
DTSTART:20250330T010000
END:DAYLIGHT
BEGIN:STANDARD
TZOFFSETFROM:+0100
TZOFFSETTO:+0000
TZNAME:GMT
DTSTART:20251026T010000
END:STANDARD
BEGIN:DAYLIGHT
TZOFFSETFROM:+0000
TZOFFSETTO:+0100
TZNAME:BST
DTSTART:20260329T010000
END:DAYLIGHT
BEGIN:STANDARD
TZOFFSETFROM:+0100
TZOFFSETTO:+0000
TZNAME:GMT
DTSTART:20261025T010000
END:STANDARD
BEGIN:DAYLIGHT
TZOFFSETFROM:+0000
TZOFFSETTO:+0100
TZNAME:BST
DTSTART:20270328T010000
END:DAYLIGHT
BEGIN:STANDARD
TZOFFSETFROM:+0100
TZOFFSETTO:+0000
TZNAME:GMT
DTSTART:20271031T010000
END:STANDARD
END:VTIMEZONE
BEGIN:VEVENT
DTSTART;TZID=Europe/London:20260611T100000
DTEND;TZID=Europe/London:20260611T110000
DTSTAMP:20260424T154653
CREATED:20260421T132714Z
LAST-MODIFIED:20260421T133306Z
UID:10000338-1781172000-1781175600@www.aerospace.co.uk
SUMMARY:[FREE WEBINAR] Unlock Hidden Energy Cost Savings
DESCRIPTION:Unlock Hidden Energy Savings: Discover how your business could reclaim thousands in overpaid energy charges\nJoin our expert-led webinar on 11th June at 10am and learn how to identify\, recover\, and prevent unnecessary Climate Change Levy (CCL) costs—without the hassle. \nWhy Attend This Webinar?\n\nYou could be owed money\nMany UK businesses have been incorrectly billed CCL over the past four years—often without realising it.\nLearn how to reclaim overpayments\nWe’ll walk you through how refunds work and how our team handles the entire process for you.\nUnderstand your eligibility for future exemptions\nDiscover how your business could legally avoid CCL charges for the next five years.\nSimplify complex regulations\nEnergy taxation is complicated—we break it down into clear\, actionable steps.\nNo cost\, no obligation insight\nGain valuable knowledge that could immediately impact your bottom line.\n\nWhat You’ll Gain\n\nImmediate cost-saving opportunities\nIdentify where your business may be overpaying and how to recover those funds.\nLong-term financial benefits\nSecure exemptions that reduce your energy costs for years to come.\nExpert guidance you can trust\nLearn from specialists who deal with energy billing and compliance every day.\nA fully managed solution\nFrom bill analysis to paperwork\, we handle the heavy lifting—so you don’t have to.\nImproved energy efficiency strategy\nOptimise your energy spend while supporting more sustainable business practices.\n\nWho Should Attend?\n\nFinance Directors & CFOs\nOperations & Facilities Managers\nBusiness Owners\nAnyone responsible for energy costs or compliance\n\nStop Overpaying for Energy – Reserve Your Free Spot Now \nSpaces are limited. Secure your place today and find out how much your business could reclaim.  Don’t miss this opportunity to uncover hidden savings and take control of your energy costs. \nDate: 11th June\nTime: 10:00 AM\nCost: Free \nCLICK HERE TO REGISTER NOW
URL:https://www.aerospace.co.uk/events/free-webinar-unlock-hidden-energy-cost-savings/
ATTACH;FMTTYPE=image/png:https://www.aerospace.co.uk/wp-content/uploads/ENERGY_SUPPORTY_JUNE_2026_EVENTS_TILE.png
ORGANIZER;CN="Energy Support Solutions":MAILTO:paul@energysupportsolutions.co.uk
END:VEVENT
END:VCALENDAR