BEGIN:VCALENDAR
VERSION:2.0
PRODID:-//North West Aerospace Alliance - ECPv6.15.17.1//NONSGML v1.0//EN
CALSCALE:GREGORIAN
METHOD:PUBLISH
X-ORIGINAL-URL:https://www.aerospace.co.uk
X-WR-CALDESC:Events for North West Aerospace Alliance
REFRESH-INTERVAL;VALUE=DURATION:PT1H
X-Robots-Tag:noindex
X-PUBLISHED-TTL:PT1H
BEGIN:VTIMEZONE
TZID:Europe/London
BEGIN:DAYLIGHT
TZOFFSETFROM:+0000
TZOFFSETTO:+0100
TZNAME:BST
DTSTART:20230326T010000
END:DAYLIGHT
BEGIN:STANDARD
TZOFFSETFROM:+0100
TZOFFSETTO:+0000
TZNAME:GMT
DTSTART:20231029T010000
END:STANDARD
BEGIN:DAYLIGHT
TZOFFSETFROM:+0000
TZOFFSETTO:+0100
TZNAME:BST
DTSTART:20240331T010000
END:DAYLIGHT
BEGIN:STANDARD
TZOFFSETFROM:+0100
TZOFFSETTO:+0000
TZNAME:GMT
DTSTART:20241027T010000
END:STANDARD
BEGIN:DAYLIGHT
TZOFFSETFROM:+0000
TZOFFSETTO:+0100
TZNAME:BST
DTSTART:20250330T010000
END:DAYLIGHT
BEGIN:STANDARD
TZOFFSETFROM:+0100
TZOFFSETTO:+0000
TZNAME:GMT
DTSTART:20251026T010000
END:STANDARD
END:VTIMEZONE
BEGIN:VEVENT
DTSTART;TZID=Europe/London:20240917T100000
DTEND;TZID=Europe/London:20240917T123000
DTSTAMP:20260421T105343
CREATED:20240819T113320Z
LAST-MODIFIED:20240819T125935Z
UID:10000248-1726567200-1726576200@www.aerospace.co.uk
SUMMARY:Boost your competitive advantages with AURION
DESCRIPTION:AURION MACHINING TECHNOLOGIES www.aurion.fi has developed an ionised air cooling and lubrication system\, which eliminates fluids and oils used in parts machining operations and also improves parts quality and reduces unit cost. We are excited to invite North West Aerospace Alliance members and their Operations\, Manufacturing Engineering and Procurement colleagues\, to an AURION ionised air machining demonstration at the NIKKEN Innovation Centre in Rotherham UK on Tuesday 17th September\, 10.00am until 12.30pm. We will be machining a representative range of aerospace and other industrial parts on a Doosan long bed milling machine\, with the Liquid lubrication system switched off. \n  \nSpecifically\, we help Aerospace OEMs and their machined parts suppliers to develop new competitive advantages in four ways… \n  \n\n 15% unit cost reduction of machined parts.\n Improved parts quality.\n Lead-time reduction (eg by deleting cleaning operations).\n Elimination of the environmental impact and potential risks to employee health\, associated with machining fluids and their landfill disposal.\n\n  \nOur corporate video is at this link: https://vimeo.com/908977424  \n  \nIt takes 1 minute to register for the event at this link… https://www.eventbrite.co.uk/e/aurion-ionised-air-machining-demonstration-tickets-948897587227 \n 
URL:https://www.aerospace.co.uk/events/boost-your-competitive-advantages-with-aurion/
LOCATION:NIKKEN Innovation Centre\, Advanced Manufacturing Park\, Rotherham\, S60 5FS
END:VEVENT
END:VCALENDAR