BEGIN:VCALENDAR
VERSION:2.0
PRODID:-//North West Aerospace Alliance - ECPv6.15.17.1//NONSGML v1.0//EN
CALSCALE:GREGORIAN
METHOD:PUBLISH
X-WR-CALNAME:North West Aerospace Alliance
X-ORIGINAL-URL:https://www.aerospace.co.uk
X-WR-CALDESC:Events for North West Aerospace Alliance
REFRESH-INTERVAL;VALUE=DURATION:PT1H
X-Robots-Tag:noindex
X-PUBLISHED-TTL:PT1H
BEGIN:VTIMEZONE
TZID:Europe/London
BEGIN:DAYLIGHT
TZOFFSETFROM:+0000
TZOFFSETTO:+0100
TZNAME:BST
DTSTART:20230326T010000
END:DAYLIGHT
BEGIN:STANDARD
TZOFFSETFROM:+0100
TZOFFSETTO:+0000
TZNAME:GMT
DTSTART:20231029T010000
END:STANDARD
BEGIN:DAYLIGHT
TZOFFSETFROM:+0000
TZOFFSETTO:+0100
TZNAME:BST
DTSTART:20240331T010000
END:DAYLIGHT
BEGIN:STANDARD
TZOFFSETFROM:+0100
TZOFFSETTO:+0000
TZNAME:GMT
DTSTART:20241027T010000
END:STANDARD
BEGIN:DAYLIGHT
TZOFFSETFROM:+0000
TZOFFSETTO:+0100
TZNAME:BST
DTSTART:20250330T010000
END:DAYLIGHT
BEGIN:STANDARD
TZOFFSETFROM:+0100
TZOFFSETTO:+0000
TZNAME:GMT
DTSTART:20251026T010000
END:STANDARD
END:VTIMEZONE
BEGIN:VEVENT
DTSTART;TZID=Europe/London:20240619T173000
DTEND;TZID=Europe/London:20240619T200000
DTSTAMP:20260419T145015
CREATED:20240516T144550Z
LAST-MODIFIED:20240516T145231Z
UID:10000230-1718818200-1718827200@www.aerospace.co.uk
SUMMARY:MND Awareness Film Evening Event
DESCRIPTION:The evening has been arranged specifically for the purpose of raising awareness of MND/ ALS. \nPlease CLICK HERE to read more & book! \n 
URL:https://www.aerospace.co.uk/events/mnd-awareness-film-evening-event/
LOCATION:The Generator\, Birchwood Park\, Warrington\, WA3 6AE\, United Kingdom
END:VEVENT
END:VCALENDAR